BEGIN:VCALENDAR
VERSION:2.0
PRODID:-//Cornish Community Initiative - ECPv6.15.20//NONSGML v1.0//EN
CALSCALE:GREGORIAN
METHOD:PUBLISH
X-WR-CALNAME:Cornish Community Initiative
X-ORIGINAL-URL:https://cornishci.org
X-WR-CALDESC:Events for Cornish Community Initiative
REFRESH-INTERVAL;VALUE=DURATION:PT1H
X-Robots-Tag:noindex
X-PUBLISHED-TTL:PT1H
BEGIN:VTIMEZONE
TZID:America/New_York
BEGIN:DAYLIGHT
TZOFFSETFROM:-0500
TZOFFSETTO:-0400
TZNAME:EDT
DTSTART:20250309T070000
END:DAYLIGHT
BEGIN:STANDARD
TZOFFSETFROM:-0400
TZOFFSETTO:-0500
TZNAME:EST
DTSTART:20251102T060000
END:STANDARD
BEGIN:DAYLIGHT
TZOFFSETFROM:-0500
TZOFFSETTO:-0400
TZNAME:EDT
DTSTART:20260308T070000
END:DAYLIGHT
BEGIN:STANDARD
TZOFFSETFROM:-0400
TZOFFSETTO:-0500
TZNAME:EST
DTSTART:20261101T060000
END:STANDARD
BEGIN:DAYLIGHT
TZOFFSETFROM:-0500
TZOFFSETTO:-0400
TZNAME:EDT
DTSTART:20270314T070000
END:DAYLIGHT
BEGIN:STANDARD
TZOFFSETFROM:-0400
TZOFFSETTO:-0500
TZNAME:EST
DTSTART:20271107T060000
END:STANDARD
END:VTIMEZONE
BEGIN:VEVENT
DTSTART;TZID=America/New_York:20260420T173000
DTEND;TZID=America/New_York:20260420T190000
DTSTAMP:20260420T014643
CREATED:20260419T165433Z
LAST-MODIFIED:20260419T165433Z
UID:3071-1776706200-1776711600@cornishci.org
SUMMARY:Creative Share Circle
DESCRIPTION:A friendly place to come and share your original poem\, song or story (written or spoken)\, dance or artwork. Come and share your finished piece\, work in progress or seeds of an idea. You choose whether to get feedback or just have an audience. For everyone and anyone who has something to share… seasoned expressive artists and those just wanting to test the waters. Come and have some fun and be inspired! Hosted by artists Ham Gillett\, Michael Zerphy and/or Marv Klassen-Landis. \nThis is a recurring program taking place on the 3rd Monday of the month!
URL:https://cornishci.org/event/creative-share-circle/
LOCATION:Windsor Library\, 43 State St\, windsor\, VT\, 05089\, United States
CATEGORIES:Social
ATTACH;FMTTYPE=image/jpeg:https://cornishci.org/wp-content/uploads/2023/08/historic.jpg
END:VEVENT
BEGIN:VEVENT
DTSTART;TZID=America/New_York:20260420T190000
DTEND;TZID=America/New_York:20260420T203000
DTSTAMP:20260420T014643
CREATED:20260419T165120Z
LAST-MODIFIED:20260419T165120Z
UID:3069-1776711600-1776717000@cornishci.org
SUMMARY:Energy Committee
DESCRIPTION:The public is welcome to attend in person or via Zoom. The Zoom link is below.\n\nAgenda:\n1.  Approve March 2\, 2026 minutes\n2.  CPCNH developments–Andrew Hatch\n3.  SB538—Selectboard signed letter in support.\n4.  Funds for Zoom subscription\n5.  Statement on Community Power—Select Board response?\n6.  Assign tasks\n7.  Town energy use — collect data from 2025\n8.  Future actions and educational forums\n·   CEC Mission Statement–The Cornish Energy Committee takes local steps to save energy and reduce greenhouse gas emissions.\n·   Goal–Our goal is to achieve 100% renewably-sourced electricity by 2030 and 100% renewably-sourced heating\, transportation\, and all other energy needs by 2050.\n·   Future activities and forums\n9.  Website Subcommittee\n10. Next meeting May 4? at 7pm via Zoom. Set meeting dates into fall.\n11. Other issues\n\n\nTo Join Via Zoom:\nhttps://us06web.zoom.us/j/89023152719?pwd=ZHFTVy9DSlM3TmFQTkxyZkV2NGVSdz09\nMeeting ID: 890 2315 2719\nPasscode: 634743\nTo call in by phone: 929-205-6099 US (New York)
URL:https://cornishci.org/event/energy-committee-2/
LOCATION:Cornish Town Offices\, 488 Town House Road\, Cornish\, NH\, United States
CATEGORIES:Advocacy
ATTACH;FMTTYPE=image/jpeg:https://cornishci.org/wp-content/uploads/2023/03/renewable.jpg
END:VEVENT
END:VCALENDAR