BEGIN:VCALENDAR
VERSION:2.0
PRODID:-//Cornish Community Initiative - ECPv6.15.20//NONSGML v1.0//EN
CALSCALE:GREGORIAN
METHOD:PUBLISH
X-ORIGINAL-URL:https://cornishci.org
X-WR-CALDESC:Events for Cornish Community Initiative
REFRESH-INTERVAL;VALUE=DURATION:PT1H
X-Robots-Tag:noindex
X-PUBLISHED-TTL:PT1H
BEGIN:VTIMEZONE
TZID:America/New_York
BEGIN:DAYLIGHT
TZOFFSETFROM:-0500
TZOFFSETTO:-0400
TZNAME:EDT
DTSTART:20240310T070000
END:DAYLIGHT
BEGIN:STANDARD
TZOFFSETFROM:-0400
TZOFFSETTO:-0500
TZNAME:EST
DTSTART:20241103T060000
END:STANDARD
BEGIN:DAYLIGHT
TZOFFSETFROM:-0500
TZOFFSETTO:-0400
TZNAME:EDT
DTSTART:20250309T070000
END:DAYLIGHT
BEGIN:STANDARD
TZOFFSETFROM:-0400
TZOFFSETTO:-0500
TZNAME:EST
DTSTART:20251102T060000
END:STANDARD
BEGIN:DAYLIGHT
TZOFFSETFROM:-0500
TZOFFSETTO:-0400
TZNAME:EDT
DTSTART:20260308T070000
END:DAYLIGHT
BEGIN:STANDARD
TZOFFSETFROM:-0400
TZOFFSETTO:-0500
TZNAME:EST
DTSTART:20261101T060000
END:STANDARD
END:VTIMEZONE
BEGIN:VEVENT
DTSTART;TZID=America/New_York:20251019T130000
DTEND;TZID=America/New_York:20251019T170000
DTSTAMP:20260419T133410
CREATED:20251006T042318Z
LAST-MODIFIED:20251006T042346Z
UID:2848-1760878800-1760893200@cornishci.org
SUMMARY:Fall Forest Work Day
DESCRIPTION:All ages are welcome to join the town forest committee Sunday October 19\, in the afternoon for once at 1 pm. We will meet at the southwest parking area accessed from Paddy Hollow Rd for a brief meeting followed by cleaning up an area on the blue trail and/or maintaining the clearing at the lookout
URL:https://cornishci.org/event/fall-forest-work-day/
CATEGORIES:Advocacy
ATTACH;FMTTYPE=image/jpeg:https://cornishci.org/wp-content/uploads/2023/10/town-forest-fall-work-day.jpg
END:VEVENT
END:VCALENDAR