BEGIN:VCALENDAR
VERSION:2.0
PRODID:-//Cornish Community Initiative - ECPv6.15.20//NONSGML v1.0//EN
CALSCALE:GREGORIAN
METHOD:PUBLISH
X-WR-CALNAME:Cornish Community Initiative
X-ORIGINAL-URL:https://cornishci.org
X-WR-CALDESC:Events for Cornish Community Initiative
REFRESH-INTERVAL;VALUE=DURATION:PT1H
X-Robots-Tag:noindex
X-PUBLISHED-TTL:PT1H
BEGIN:VTIMEZONE
TZID:America/New_York
BEGIN:DAYLIGHT
TZOFFSETFROM:-0500
TZOFFSETTO:-0400
TZNAME:EDT
DTSTART:20250309T070000
END:DAYLIGHT
BEGIN:STANDARD
TZOFFSETFROM:-0400
TZOFFSETTO:-0500
TZNAME:EST
DTSTART:20251102T060000
END:STANDARD
BEGIN:DAYLIGHT
TZOFFSETFROM:-0500
TZOFFSETTO:-0400
TZNAME:EDT
DTSTART:20260308T070000
END:DAYLIGHT
BEGIN:STANDARD
TZOFFSETFROM:-0400
TZOFFSETTO:-0500
TZNAME:EST
DTSTART:20261101T060000
END:STANDARD
BEGIN:DAYLIGHT
TZOFFSETFROM:-0500
TZOFFSETTO:-0400
TZNAME:EDT
DTSTART:20270314T070000
END:DAYLIGHT
BEGIN:STANDARD
TZOFFSETFROM:-0400
TZOFFSETTO:-0500
TZNAME:EST
DTSTART:20271107T060000
END:STANDARD
END:VTIMEZONE
BEGIN:VEVENT
DTSTART;TZID=America/New_York:20260530T090000
DTEND;TZID=America/New_York:20260530T120000
DTSTAMP:20260421T091438
CREATED:20260419T173017Z
LAST-MODIFIED:20260419T173017Z
UID:3107-1780131600-1780142400@cornishci.org
SUMMARY:Hazardous Waste Collection
DESCRIPTION:Claremont: Highway Garage\, 8 Grandview St \nAvailable to Cornish residents and other towns. \nCheck the list. Tell your friends. \nTHIS is the year to get rid of hazardous material responsibly! \nhttps://uvlsrpc.org/environment/household-hazardous-waste/
URL:https://cornishci.org/event/hazardous-waste-collection/
CATEGORIES:Advocacy
ATTACH;FMTTYPE=image/jpeg:https://cornishci.org/wp-content/uploads/2023/07/waste.jpg
END:VEVENT
END:VCALENDAR