BEGIN:VCALENDAR
VERSION:2.0
PRODID:-//Cornish Community Initiative - ECPv6.15.20//NONSGML v1.0//EN
CALSCALE:GREGORIAN
METHOD:PUBLISH
X-ORIGINAL-URL:https://cornishci.org
X-WR-CALDESC:Events for Cornish Community Initiative
REFRESH-INTERVAL;VALUE=DURATION:PT1H
X-Robots-Tag:noindex
X-PUBLISHED-TTL:PT1H
BEGIN:VTIMEZONE
TZID:America/New_York
BEGIN:DAYLIGHT
TZOFFSETFROM:-0500
TZOFFSETTO:-0400
TZNAME:EDT
DTSTART:20250309T070000
END:DAYLIGHT
BEGIN:STANDARD
TZOFFSETFROM:-0400
TZOFFSETTO:-0500
TZNAME:EST
DTSTART:20251102T060000
END:STANDARD
BEGIN:DAYLIGHT
TZOFFSETFROM:-0500
TZOFFSETTO:-0400
TZNAME:EDT
DTSTART:20260308T070000
END:DAYLIGHT
BEGIN:STANDARD
TZOFFSETFROM:-0400
TZOFFSETTO:-0500
TZNAME:EST
DTSTART:20261101T060000
END:STANDARD
BEGIN:DAYLIGHT
TZOFFSETFROM:-0500
TZOFFSETTO:-0400
TZNAME:EDT
DTSTART:20270314T070000
END:DAYLIGHT
BEGIN:STANDARD
TZOFFSETFROM:-0400
TZOFFSETTO:-0500
TZNAME:EST
DTSTART:20271107T060000
END:STANDARD
END:VTIMEZONE
BEGIN:VEVENT
DTSTART;TZID=America/New_York:20260425T130000
DTEND;TZID=America/New_York:20260425T150000
DTSTAMP:20260420T045712
CREATED:20260419T171623Z
LAST-MODIFIED:20260419T171623Z
UID:3094-1777122000-1777129200@cornishci.org
SUMMARY:Earth Day
DESCRIPTION:Come celebrate the Earth and eat locally baked goods! \nSince we are experiencing changing climate patterns\, this event will focus on Resiliency; how we can adjust and mitigate this challenge in our own backyards. Also\, with the help of animals\, ways in which we can be more self reliant. \nCome and learn about chickens\, solar\, soil practices\, watch and learn from spinners\, knitters and musicians. \nStill looking for people who can advise or help with repairs and those with informative soil demos. \nThe Friends of the Cornish Library Bake Sale will include pies\, cookies and other delectable delights. \nIn case of rain\, the bake sale and fiber group will take place in the Meeting House. \nJoin us with ideas and your participation. \nContact: Nancy Wightman\, nwlaststraw@gmail.com
URL:https://cornishci.org/event/earth-day-2/
LOCATION:Cornish Meeting House\, 14 meeting house Rd\, Cornish\, NH\, 03745
CATEGORIES:Advocacy
ATTACH;FMTTYPE=image/jpeg:https://cornishci.org/wp-content/uploads/2026/04/Earth.jpg
END:VEVENT
BEGIN:VEVENT
DTSTART;TZID=America/New_York:20260428T120000
DTEND;TZID=America/New_York:20260428T130000
DTSTAMP:20260420T045712
CREATED:20260419T171816Z
LAST-MODIFIED:20260419T171816Z
UID:3097-1777377600-1777381200@cornishci.org
SUMMARY:Over 60 Lunch
DESCRIPTION:Menu: Roast pork loin with gravy\, mashed potatoes\, vegetables and dessert. \nDoors open at 11:45 \nReservations required \nEmail Audrey Jacquier at audreyjac@icloud.com \nOr call 603-469-3245 if you plan to attend.
URL:https://cornishci.org/event/over-60-lunch/
LOCATION:Cornish Town Hall\, 294 Town House Rd\, Cornish\, NH\, 03745
CATEGORIES:Social
ATTACH;FMTTYPE=image/jpeg:https://cornishci.org/wp-content/uploads/2023/09/seniorlunch.jpg
END:VEVENT
BEGIN:VEVENT
DTSTART;TZID=America/New_York:20260428T180000
DTEND;TZID=America/New_York:20260428T193000
DTSTAMP:20260420T045712
CREATED:20260419T171925Z
LAST-MODIFIED:20260419T171925Z
UID:3099-1777399200-1777404600@cornishci.org
SUMMARY:Craft Night
DESCRIPTION:Craft of the Month: \nDecoupage Tin Centerpieces \nCraft night is held every 4th Tuesday of the month. \nSponsored and hosted by the Friends of the Library.
URL:https://cornishci.org/event/craft-night/
LOCATION:Stowell Library\, 24 School Street\, Cornish\, NH\, 03745
CATEGORIES:Social
ATTACH;FMTTYPE=image/jpeg:https://cornishci.org/wp-content/uploads/2023/03/crafts.jpg
END:VEVENT
BEGIN:VEVENT
DTSTART;TZID=America/New_York:20260428T183000
DTEND;TZID=America/New_York:20260428T183000
DTSTAMP:20260420T045712
CREATED:20260419T171339Z
LAST-MODIFIED:20260419T171339Z
UID:3084-1777401000-1777401000@cornishci.org
SUMMARY:Fiber Group
DESCRIPTION:Happy Spring\, Fiber Friends! We continue to gather with Fiber projects of all kinds each Tuesday evening. Bring a project\, show up for help with a project\, or offer guidance. All levels welcome! \nQuestions? contact Amanda magickalhands@comcast.net or Kathleen- kathleen.maslan@comcast.net
URL:https://cornishci.org/event/fiber-group-13/
LOCATION:Cornish Fire Station\, 187 NH-120\, Cornish\, NH\, 03745
CATEGORIES:Social
ATTACH;FMTTYPE=image/jpeg:https://cornishci.org/wp-content/uploads/2023/10/quilt.jpg
END:VEVENT
BEGIN:VEVENT
DTSTART;TZID=America/New_York:20260505T183000
DTEND;TZID=America/New_York:20260505T183000
DTSTAMP:20260420T045712
CREATED:20260419T171340Z
LAST-MODIFIED:20260419T171340Z
UID:3085-1778005800-1778005800@cornishci.org
SUMMARY:Fiber Group
DESCRIPTION:Happy Spring\, Fiber Friends! We continue to gather with Fiber projects of all kinds each Tuesday evening. Bring a project\, show up for help with a project\, or offer guidance. All levels welcome! \nQuestions? contact Amanda magickalhands@comcast.net or Kathleen- kathleen.maslan@comcast.net
URL:https://cornishci.org/event/fiber-group-14/
LOCATION:Cornish Fire Station\, 187 NH-120\, Cornish\, NH\, 03745
CATEGORIES:Social
ATTACH;FMTTYPE=image/jpeg:https://cornishci.org/wp-content/uploads/2023/10/quilt.jpg
END:VEVENT
BEGIN:VEVENT
DTSTART;TZID=America/New_York:20260506T073000
DTEND;TZID=America/New_York:20260506T083000
DTSTAMP:20260420T045712
CREATED:20260419T172441Z
LAST-MODIFIED:20260419T172441Z
UID:3101-1778052600-1778056200@cornishci.org
SUMMARY:N2N Meeting
DESCRIPTION:All are welcome. Contact: linellenleone@gmail.com or sbobin@plymouth.edu.
URL:https://cornishci.org/event/n2n-meeting/
LOCATION:Plainfield Country Store\, 1190 12A\, Plainfield\, NH\, 03781
CATEGORIES:Social
ATTACH;FMTTYPE=image/jpeg:https://cornishci.org/wp-content/uploads/2023/03/Food.jpg
END:VEVENT
BEGIN:VEVENT
DTSTART;TZID=America/New_York:20260512T183000
DTEND;TZID=America/New_York:20260512T183000
DTSTAMP:20260420T045712
CREATED:20260419T171341Z
LAST-MODIFIED:20260419T171341Z
UID:3086-1778610600-1778610600@cornishci.org
SUMMARY:Fiber Group
DESCRIPTION:Happy Spring\, Fiber Friends! We continue to gather with Fiber projects of all kinds each Tuesday evening. Bring a project\, show up for help with a project\, or offer guidance. All levels welcome! \nQuestions? contact Amanda magickalhands@comcast.net or Kathleen- kathleen.maslan@comcast.net
URL:https://cornishci.org/event/fiber-group-15/
LOCATION:Cornish Fire Station\, 187 NH-120\, Cornish\, NH\, 03745
CATEGORIES:Social
ATTACH;FMTTYPE=image/jpeg:https://cornishci.org/wp-content/uploads/2023/10/quilt.jpg
END:VEVENT
BEGIN:VEVENT
DTSTART;TZID=America/New_York:20260513T170000
DTEND;TZID=America/New_York:20260513T180000
DTSTAMP:20260420T045712
CREATED:20260419T172626Z
LAST-MODIFIED:20260419T172626Z
UID:3103-1778691600-1778695200@cornishci.org
SUMMARY:Cookbook Club
DESCRIPTION:Cookbook Book Group Signup: May 13\, 2026 \nJoin us for our next Cookbook Club meeting on Wednesday\, May 13 at 5:00 PM at PRML! This month\, we’ll be cooking from Milk Street: Tuesday Nights—a collection of simple\, flavorful recipes designed for weeknight cooking. \nChoose a recipe from the book\, prepare it at home\, and bring your dish to share. We’ll gather to enjoy a delicious meal together\, swap recipes\, and chat about our cooking experiences. \nNew participants are always welcome—come hungry and ready to connect! \nBooks will be available at both Plainfield Libraries & the Cornish Library!
URL:https://cornishci.org/event/cookbook-club/
LOCATION:Philip Read Memorial Library\, 1088 NH-12A\, Plainfield\, NH\, 03781
CATEGORIES:Social
ATTACH;FMTTYPE=image/jpeg:https://cornishci.org/wp-content/uploads/2024/05/cookbook.jpg
END:VEVENT
BEGIN:VEVENT
DTSTART;TZID=America/New_York:20260514T120000
DTEND;TZID=America/New_York:20260514T130000
DTSTAMP:20260420T045712
CREATED:20260419T172831Z
LAST-MODIFIED:20260419T172831Z
UID:3105-1778760000-1778763600@cornishci.org
SUMMARY:Saint-Gaudens Opening
DESCRIPTION:You’re invited to join us for the opening reception of the 2026 season at Saint-Gaudens National Historical Park—New Hampshire’s only national park and one of New England’s most distinctive cultural and landscape destinations. \nhttps://saint-gaudens.org/exhibitions/ \nSet on 190 acres overlooking the Connecticut River\, the Park was the home\, studio\, and creative retreat of Augustus Saint-Gaudens (1848–1907)\, widely considered one of America’s greatest sculptors. His work helped define the American Renaissance\, with iconic pieces including the Shaw Memorial in Boston and the Double Eagle gold coin. \nThe 2026 season welcomes visitors to explore the Park’s magnificent grounds\, historic buildings\, and unparalleled artworks\, alongside a full calendar of programming. \nThis year’s opening also features the new exhibition: \nLeslie Lyman | Work Beneath The Work\, part of the Park’s Picture Gallery series. \nIn addition to exhibitions\, the season includes Sculptor-in-Residence workshops\, Sunday concerts\, and a range of educational programs\, offering a rich mix of arts\, culture\, and community engagement throughout the summer and fall. \nWhy this matters \n\nA unique cultural destination in New Hampshire’s Upper Valley\, easily accessible from Boston (under 2 hours)and New York City (under 5 hours by car or rail\, less on Cape Air)\nA compelling blend of art\, history\, and outdoor experience in a setting that is both immersive and uncrowded\nA full season of programming spanning exhibitions\, music\, and hands-on arts experiences\n\nIf you’re interested in covering the Park beyond the opening\, please let us know. We have a limited number of overnight opportunities available for media and would be happy to coordinate a more in-depth visit. \nWe would be happy to arrange interviews\, provide background materials\, and support your coverage. \nPlease let me know if you’re able to attend\, and I’ll follow up with full details. \nJayme Simões \nV: 603 620 1453
URL:https://cornishci.org/event/saint-gaudens-opening/
LOCATION:Saint Gaudens National Park\, 139 Saint Gaudens Road\, Cornish\, NH\, 03745
CATEGORIES:General
ATTACH;FMTTYPE=image/jpeg:https://cornishci.org/wp-content/uploads/2023/09/STGA.jpg
END:VEVENT
BEGIN:VEVENT
DTSTART;TZID=America/New_York:20260519T183000
DTEND;TZID=America/New_York:20260519T183000
DTSTAMP:20260420T045712
CREATED:20260419T171342Z
LAST-MODIFIED:20260419T171342Z
UID:3087-1779215400-1779215400@cornishci.org
SUMMARY:Fiber Group
DESCRIPTION:Happy Spring\, Fiber Friends! We continue to gather with Fiber projects of all kinds each Tuesday evening. Bring a project\, show up for help with a project\, or offer guidance. All levels welcome! \nQuestions? contact Amanda magickalhands@comcast.net or Kathleen- kathleen.maslan@comcast.net
URL:https://cornishci.org/event/fiber-group-16/
LOCATION:Cornish Fire Station\, 187 NH-120\, Cornish\, NH\, 03745
CATEGORIES:Social
ATTACH;FMTTYPE=image/jpeg:https://cornishci.org/wp-content/uploads/2023/10/quilt.jpg
END:VEVENT
BEGIN:VEVENT
DTSTART;TZID=America/New_York:20260526T183000
DTEND;TZID=America/New_York:20260526T183000
DTSTAMP:20260420T045712
CREATED:20260419T171345Z
LAST-MODIFIED:20260419T171345Z
UID:3088-1779820200-1779820200@cornishci.org
SUMMARY:Fiber Group
DESCRIPTION:Happy Spring\, Fiber Friends! We continue to gather with Fiber projects of all kinds each Tuesday evening. Bring a project\, show up for help with a project\, or offer guidance. All levels welcome! \nQuestions? contact Amanda magickalhands@comcast.net or Kathleen- kathleen.maslan@comcast.net
URL:https://cornishci.org/event/fiber-group-17/
LOCATION:Cornish Fire Station\, 187 NH-120\, Cornish\, NH\, 03745
CATEGORIES:Social
ATTACH;FMTTYPE=image/jpeg:https://cornishci.org/wp-content/uploads/2023/10/quilt.jpg
END:VEVENT
BEGIN:VEVENT
DTSTART;TZID=America/New_York:20260530T090000
DTEND;TZID=America/New_York:20260530T120000
DTSTAMP:20260420T045712
CREATED:20260419T173017Z
LAST-MODIFIED:20260419T173017Z
UID:3107-1780131600-1780142400@cornishci.org
SUMMARY:Hazardous Waste Collection
DESCRIPTION:Claremont: Highway Garage\, 8 Grandview St \nAvailable to Cornish residents and other towns. \nCheck the list. Tell your friends. \nTHIS is the year to get rid of hazardous material responsibly! \nhttps://uvlsrpc.org/environment/household-hazardous-waste/
URL:https://cornishci.org/event/hazardous-waste-collection/
LOCATION:NH
CATEGORIES:Advocacy
ATTACH;FMTTYPE=image/jpeg:https://cornishci.org/wp-content/uploads/2023/07/waste.jpg
END:VEVENT
BEGIN:VEVENT
DTSTART;TZID=America/New_York:20260602T183000
DTEND;TZID=America/New_York:20260602T183000
DTSTAMP:20260420T045712
CREATED:20260419T171347Z
LAST-MODIFIED:20260419T171347Z
UID:3089-1780425000-1780425000@cornishci.org
SUMMARY:Fiber Group
DESCRIPTION:Happy Spring\, Fiber Friends! We continue to gather with Fiber projects of all kinds each Tuesday evening. Bring a project\, show up for help with a project\, or offer guidance. All levels welcome! \nQuestions? contact Amanda magickalhands@comcast.net or Kathleen- kathleen.maslan@comcast.net
URL:https://cornishci.org/event/fiber-group-18/
LOCATION:Cornish Fire Station\, 187 NH-120\, Cornish\, NH\, 03745
CATEGORIES:Social
ATTACH;FMTTYPE=image/jpeg:https://cornishci.org/wp-content/uploads/2023/10/quilt.jpg
END:VEVENT
BEGIN:VEVENT
DTSTART;TZID=America/New_York:20260609T183000
DTEND;TZID=America/New_York:20260609T183000
DTSTAMP:20260420T045712
CREATED:20260419T171348Z
LAST-MODIFIED:20260419T171348Z
UID:3090-1781029800-1781029800@cornishci.org
SUMMARY:Fiber Group
DESCRIPTION:Happy Spring\, Fiber Friends! We continue to gather with Fiber projects of all kinds each Tuesday evening. Bring a project\, show up for help with a project\, or offer guidance. All levels welcome! \nQuestions? contact Amanda magickalhands@comcast.net or Kathleen- kathleen.maslan@comcast.net
URL:https://cornishci.org/event/fiber-group-19/
LOCATION:Cornish Fire Station\, 187 NH-120\, Cornish\, NH\, 03745
CATEGORIES:Social
ATTACH;FMTTYPE=image/jpeg:https://cornishci.org/wp-content/uploads/2023/10/quilt.jpg
END:VEVENT
BEGIN:VEVENT
DTSTART;TZID=America/New_York:20260616T183000
DTEND;TZID=America/New_York:20260616T183000
DTSTAMP:20260420T045712
CREATED:20260419T171349Z
LAST-MODIFIED:20260419T171349Z
UID:3091-1781634600-1781634600@cornishci.org
SUMMARY:Fiber Group
DESCRIPTION:Happy Spring\, Fiber Friends! We continue to gather with Fiber projects of all kinds each Tuesday evening. Bring a project\, show up for help with a project\, or offer guidance. All levels welcome! \nQuestions? contact Amanda magickalhands@comcast.net or Kathleen- kathleen.maslan@comcast.net
URL:https://cornishci.org/event/fiber-group-20/
LOCATION:Cornish Fire Station\, 187 NH-120\, Cornish\, NH\, 03745
CATEGORIES:Social
ATTACH;FMTTYPE=image/jpeg:https://cornishci.org/wp-content/uploads/2023/10/quilt.jpg
END:VEVENT
BEGIN:VEVENT
DTSTART;TZID=America/New_York:20260623T183000
DTEND;TZID=America/New_York:20260623T183000
DTSTAMP:20260420T045712
CREATED:20260419T171350Z
LAST-MODIFIED:20260419T171350Z
UID:3092-1782239400-1782239400@cornishci.org
SUMMARY:Fiber Group
DESCRIPTION:Happy Spring\, Fiber Friends! We continue to gather with Fiber projects of all kinds each Tuesday evening. Bring a project\, show up for help with a project\, or offer guidance. All levels welcome! \nQuestions? contact Amanda magickalhands@comcast.net or Kathleen- kathleen.maslan@comcast.net
URL:https://cornishci.org/event/fiber-group-21/
LOCATION:Cornish Fire Station\, 187 NH-120\, Cornish\, NH\, 03745
CATEGORIES:Social
ATTACH;FMTTYPE=image/jpeg:https://cornishci.org/wp-content/uploads/2023/10/quilt.jpg
END:VEVENT
BEGIN:VEVENT
DTSTART;TZID=America/New_York:20260630T183000
DTEND;TZID=America/New_York:20260630T183000
DTSTAMP:20260420T045712
CREATED:20260419T171403Z
LAST-MODIFIED:20260419T171403Z
UID:3093-1782844200-1782844200@cornishci.org
SUMMARY:Fiber Group
DESCRIPTION:Happy Spring\, Fiber Friends! We continue to gather with Fiber projects of all kinds each Tuesday evening. Bring a project\, show up for help with a project\, or offer guidance. All levels welcome! \nQuestions? contact Amanda magickalhands@comcast.net or Kathleen- kathleen.maslan@comcast.net
URL:https://cornishci.org/event/fiber-group-22/
LOCATION:Cornish Fire Station\, 187 NH-120\, Cornish\, NH\, 03745
CATEGORIES:Social
ATTACH;FMTTYPE=image/jpeg:https://cornishci.org/wp-content/uploads/2023/10/quilt.jpg
END:VEVENT
BEGIN:VEVENT
DTSTART;TZID=America/New_York:20260926T090000
DTEND;TZID=America/New_York:20260926T120000
DTSTAMP:20260420T045712
CREATED:20260419T173205Z
LAST-MODIFIED:20260419T173205Z
UID:3109-1790413200-1790424000@cornishci.org
SUMMARY:Hazardous Waste Collection
DESCRIPTION:Lebanon: DHMC Lot 27\, 52 Labombard Rd \nAvailable to Cornish residents and other towns. \nCheck the list. Tell your friends. \nTHIS is the year to get rid of hazardous material responsibly! \nhttps://uvlsrpc.org/environment/household-hazardous-waste/
URL:https://cornishci.org/event/hazardous-waste-collection-2/
LOCATION:NH
CATEGORIES:Advocacy
ATTACH;FMTTYPE=image/jpeg:https://cornishci.org/wp-content/uploads/2023/07/waste.jpg
END:VEVENT
END:VCALENDAR